BEGIN:VCALENDAR
PRODID:-//Microsoft Corporation//Outlook 14.0 MIMEDIR//EN
VERSION:2.0
METHOD:PUBLISH
BEGIN:VEVENT
UID:b9e8bd5b10d96aabb8723543018cb3accapstcharles.org
DTSTAMP:20260423T223859Z
DTSTART:2026-04-29T09:15:0000Z
DTEND:2026-04-29T11:30:0000Z
SUMMARY:Zumba
LOCATION:2401 rue Mullins Montréal (Québec) H3K 3E3
DESCRIPTION:Libérez-vous dans un cours de zumba adapté pour les aîné.es où la danse latine entraînante rencontre la remise en forme complète! C’est l’activité parfaite pour stimuler votre corps et votre esprit.
END:VEVENT
END:VCALENDAR